BEGIN:VCALENDAR
VERSION:2.0
PRODID:-//Myles of Great Hopes - ECPv6.6.4//NONSGML v1.0//EN
CALSCALE:GREGORIAN
METHOD:PUBLISH
X-WR-CALNAME:Myles of Great Hopes
X-ORIGINAL-URL:https://www.mylesofgreathopes.org
X-WR-CALDESC:Events for Myles of Great Hopes
REFRESH-INTERVAL;VALUE=DURATION:PT1H
X-Robots-Tag:noindex
X-PUBLISHED-TTL:PT1H
BEGIN:VTIMEZONE
TZID:UTC
BEGIN:STANDARD
TZOFFSETFROM:+0000
TZOFFSETTO:+0000
TZNAME:UTC
DTSTART:20250101T000000
END:STANDARD
END:VTIMEZONE
BEGIN:VEVENT
DTSTART;TZID=UTC:20250426T090000
DTEND;TZID=UTC:20250426T170000
DTSTAMP:20260425T103855
CREATED:20250407T103834Z
LAST-MODIFIED:20251029T081245Z
UID:10754-1745658000-1745686800@www.mylesofgreathopes.org
SUMMARY:April 26 - Visit MOGH at Cary's Spring Daze Festival
DESCRIPTION:You’re invited to visit Myles of Great Hope in the Community Cove at Cary’s Spring Daze Festival on Saturday\, April 26\, 2025! \nCome express yourself with African Dance and Art! Experience African dance lessons and express yourself through creative painting. Enter a raffle for a chance to win authentic Masai goods! \nMyles of Great Hopes is a nonprofit supporting Kenyan communities through education\, sanitation\, and health initiatives. They empower youth and families with sustainable programs for a brighter future.
URL:https://www.mylesofgreathopes.org/event/visit-mogh-at-carys-spring-daze-festival/
LOCATION:Bond Park\, 801 High House Rd\,\, Cary\, 27513\, United States
CATEGORIES:Past
ATTACH;FMTTYPE=image/png:https://www.mylesofgreathopes.org/wp-content/uploads/2025/04/IMG_4077-e1744024574563.png
ORGANIZER;CN="Myles Of Great Hopes":MAILTO:info@mylesofgreathopes.org
END:VEVENT
END:VCALENDAR