BEGIN:VCALENDAR
VERSION:2.0
PRODID:-//Myles of Great Hopes - ECPv6.6.4//NONSGML v1.0//EN
CALSCALE:GREGORIAN
METHOD:PUBLISH
X-ORIGINAL-URL:https://www.mylesofgreathopes.org
X-WR-CALDESC:Events for Myles of Great Hopes
REFRESH-INTERVAL;VALUE=DURATION:PT1H
X-Robots-Tag:noindex
X-PUBLISHED-TTL:PT1H
BEGIN:VTIMEZONE
TZID:UTC
BEGIN:STANDARD
TZOFFSETFROM:+0000
TZOFFSETTO:+0000
TZNAME:UTC
DTSTART:20250101T000000
END:STANDARD
END:VTIMEZONE
BEGIN:VEVENT
DTSTART;TZID=UTC:20250510T180000
DTEND;TZID=UTC:20250510T210000
DTSTAMP:20260425T110826
CREATED:20250407T112554Z
LAST-MODIFIED:20251029T081220Z
UID:10774-1746900000-1746910800@www.mylesofgreathopes.org
SUMMARY:May 10 - Battle of the Paddles
DESCRIPTION:Come out for a night of fun\, food and bidding! Bid on a wide range of high-quality products\, the likes of Mary Kay and other authentic items through Paddle fights by committing just a quarter on each! Lucky winners take home products worth a lot more! Bring enough quarters for the bids. Meals less than $10 available on site. To be a vendor\, register for $25. Funds raised will support MOGH youth projects in Kenya.
URL:https://www.mylesofgreathopes.org/event/10774/
LOCATION:Knights of Columbus\, 4301 Columbus Club Dr.\, Raleigh\, NC\, 27604\, United States
CATEGORIES:Past
ATTACH;FMTTYPE=image/png:https://www.mylesofgreathopes.org/wp-content/uploads/2025/04/BattleofthePaddles-e1744024904187.png
ORGANIZER;CN="Myles Of Great Hopes":MAILTO:info@mylesofgreathopes.org
END:VEVENT
END:VCALENDAR